Workbook

Sheet Readme
A1: Template feuille de route éco-conception
A2: Version 1
A4: Mode d'emploi :
A5: 1. Renseigner l'onglet "Cotation des idées"
A6: 2. Ajuster les coefficients de pondération pour le calcul des scores agrégés (1re ligne)
A7: 3. Spécifier le statut pour chaque idée (colonne Q)
A8: 4. La synthèse des idées retenues est visible dans l'onglet "Synthèse des priorités"
A10: Pour toute question ou suggestion contacter Emmanuel Pion (emmanuel@reduire.fr)

Sheet Exemple de synthèse
B2: Catégorie | C2: Solution | D2: Gains environnementaux | E2: Complexité globale | F2: Valeur client | G2: Priorité | H2: Actions à mener | I2: Responsable | J2: Délai
C3: Solution 1 | D3: 0.075 | E3: 1 | F3: 1
C4: Solution 2 | D4: 0.065 | E4: 2 | F4: 3
C5: Solution 3 | D5: 0.02 | E5: 3 | F5: 1
C6: Solution 4 | D6: 0.045 | E6: 3 | F6: 1
C7: Solution 5 | D7: 0.05 | E7: 4 | F7: 1
C8: Solution 6 | D8: 0.015 | E8: 5 | F8: 1
C9: Solution 7 | D9: 0.01 | E9: 2 | F9: 0.5

Sheet Synthèse des priorités
B2: Catégorie | C2: Solution | D2: Gains environnementaux | E2: Complexité globale | F2: Valeur client | G2: Priorité | H2: Actions à mener | I2: Responsable | J2: Délai
C3: ='(Idées validées)'!B4 -> 0 | D3: ='(Idées validées)'!G4 -> 0 | E3: ='(Idées validées)'!L4 -> 0 | F3: ='(Idées validées)'!P4 -> 0

Sheet Cotation des idées
A1: Axes d'éco-conception | B1: Idées | D1: Gains environnementaux | H1: Complexité | I1: 1 | J1: 3 | K1: 1 | M1: Valeur client | N1: 1 | O1: 1 | Q1: Bilan
A2: Catégorie | B2: Nom de la solution | C2: Détails | D2: Commentaires | E2: Contribution | F2: Potentiel de gain élémentaire | G2: Gains environnementaux | H2: Commentaires | I2: Technique | J2: Economique | K2: Temporelle / disponibilité | L2: Complexité globale | M2: Commentaires | N2: Performance fonctionnelle | O2: Attente client / éco-responsabilité | P2: Valeur globale | Q2: Statut de l'idée
E3: % | F3: % | G3: % | I3: 1 à 5 | J3: 1 à 5 | K3: 1 à 5 | N3: 1 à 5 | O3: 1 à 5 | Q3: OK ; ? ; NOK
A4: 1 - Approvisionnements / Matériaux / Achats moins impactants
A5: Traçabilité fournisseurs | G5: =E5*F5 -> 0 | L5: =SUMPRODUCT(I5:K5,$I$1:$K$1)/SUM($I$1:$K$1) -> 0 | P5: =SUMPRODUCT(N5:O5,$N$1:$O$1)/SUM($N$1:$O$1) -> 0
A6: Matériaux recyclés | G6: =E6*F6 -> 0 | L6: =SUMPRODUCT(I6:K6,$I$1:$K$1)/SUM($I$1:$K$1) -> 0 | P6: =SUMPRODUCT(N6:O6,$N$1:$O$1)/SUM($N$1:$O$1) -> 0
A7: Matériaux recyclables | G7: =E7*F7 -> 0 | L7: =SUMPRODUCT(I7:K7,$I$1:$K$1)/SUM($I$1:$K$1) -> 0 | P7: =SUMPRODUCT(N7:O7,$N$1:$O$1)/SUM($N$1:$O$1) -> 0
A8: Matériaux biosourcés | G8: =E8*F8 -> 0 | L8: =SUMPRODUCT(I8:K8,$I$1:$K$1)/SUM($I$1:$K$1) -> 0 | P8: =SUMPRODUCT(N8:O8,$N$1:$O$1)/SUM($N$1:$O$1) -> 0
A9: Matériaux / solutions moins toxiques | G9: =E9*F9 -> 0 | L9: =SUMPRODUCT(I9:K9,$I$1:$K$1)/SUM($I$1:$K$1) -> 0 | P9: =SUMPRODUCT(N9:O9,$N$1:$O$1)/SUM($N$1:$O$1) -> 0
A10: Choix de matériaux / produits à Haute Performance Environnementale (conso énergie, conso eau, ...) | G10: =E10*F10 -> 0 | L10: =SUMPRODUCT(I10:K10,$I$1:$K$1)/SUM($I$1:$K$1) -> 0 | P10: =SUMPRODUCT(N10:O10,$N$1:$O$1)/SUM($N$1:$O$1) -> 0
A11: Matériaux locaux | G11: =E11*F11 -> 0 | L11: =SUMPRODUCT(I11:K11,$I$1:$K$1)/SUM($I$1:$K$1) -> 0 | P11: =SUMPRODUCT(N11:O11,$N$1:$O$1)/SUM($N$1:$O$1) -> 0
A12: Améliorer l‘approvisionnement / matériaux de l’emballage du produit | G12: =E12*F12 -> 0 | L12: =SUMPRODUCT(I12:K12,$I$1:$K$1)/SUM($I$1:$K$1) -> 0 | P12: =SUMPRODUCT(N12:O12,$N$1:$O$1)/SUM($N$1:$O$1) -> 0
A13: 2 - Réduction de la quantité de matière
A14: Allégement du produit ou des éléments | G14: =E14*F14 -> 0 | L14: =SUMPRODUCT(I14:K14,$I$1:$K$1)/SUM($I$1:$K$1) -> 0 | P14: =SUMPRODUCT(N14:O14,$N$1:$O$1)/SUM($N$1:$O$1) -> 0
A15: Réduction du nombre de piéces / matériaux | G15: =E15*F15 -> 0 | L15: =SUMPRODUCT(I15:K15,$I$1:$K$1)/SUM($I$1:$K$1) -> 0 | P15: =SUMPRODUCT(N15:O15,$N$1:$O$1)/SUM($N$1:$O$1) -> 0
A16: Optimisation de la géométrie / miniaturisation / standardisation | G16: =E16*F16 -> 0 | L16: =SUMPRODUCT(I16:K16,$I$1:$K$1)/SUM($I$1:$K$1) -> 0 | P16: =SUMPRODUCT(N16:O16,$N$1:$O$1)/SUM($N$1:$O$1) -> 0
A17: Valorisation / réduction des chutes de production | G17: =E17*F17 -> 0 | L17: =SUMPRODUCT(I17:K17,$I$1:$K$1)/SUM($I$1:$K$1) -> 0 | P17: =SUMPRODUCT(N17:O17,$N$1:$O$1)/SUM($N$1:$O$1) -> 0
A18: Réduction de la quantité de matière de l’emballage du produit | G18: =E18*F18 -> 0 | L18: =SUMPRODUCT(I18:K18,$I$1:$K$1)/SUM($I$1:$K$1) -> 0 | P18: =SUMPRODUCT(N18:O18,$N$1:$O$1)/SUM($N$1:$O$1) -> 0
A19: 3 - Optimisation des techniques de production
A20: Réduction de la consommation | G20: =E20*F20 -> 0 | L20: =SUMPRODUCT(I20:K20,$I$1:$K$1)/SUM($I$1:$K$1) -> 0 | P20: =SUMPRODUCT(N20:O20,$N$1:$O$1)/SUM($N$1:$O$1) -> 0
A21: Site HPE (Energies renouvelables, station d’épuration, ...) | G21: =E21*F21 -> 0 | L21: =SUMPRODUCT(I21:K21,$I$1:$K$1)/SUM($I$1:$K$1) -> 0 | P21: =SUMPRODUCT(N21:O21,$N$1:$O$1)/SUM($N$1:$O$1) -> 0
A22: Technologie / solution à faible impact | G22: =E22*F22 -> 0 | L22: =SUMPRODUCT(I22:K22,$I$1:$K$1)/SUM($I$1:$K$1) -> 0 | P22: =SUMPRODUCT(N22:O22,$N$1:$O$1)/SUM($N$1:$O$1) -> 0
A23: Réduction des étapes de fabrication | G23: =E23*F23 -> 0 | L23: =SUMPRODUCT(I23:K23,$I$1:$K$1)/SUM($I$1:$K$1) -> 0 | P23: =SUMPRODUCT(N23:O23,$N$1:$O$1)/SUM($N$1:$O$1) -> 0
A24: 4 - Optimisation de la logistique
A25: Réduction / suppression de l'emballage de transport (masse / volume) | G25: =E25*F25 -> 0 | L25: =SUMPRODUCT(I25:K25,$I$1:$K$1)/SUM($I$1:$K$1) -> 0 | P25: =SUMPRODUCT(N25:O25,$N$1:$O$1)/SUM($N$1:$O$1) -> 0
A26: Choix matière emballage de transport moins impactant | G26: =E26*F26 -> 0 | L26: =SUMPRODUCT(I26:K26,$I$1:$K$1)/SUM($I$1:$K$1) -> 0 | P26: =SUMPRODUCT(N26:O26,$N$1:$O$1)/SUM($N$1:$O$1) -> 0
A27: Emballage de transport réutilisable | G27: =E27*F27 -> 0 | L27: =SUMPRODUCT(I27:K27,$I$1:$K$1)/SUM($I$1:$K$1) -> 0 | P27: =SUMPRODUCT(N27:O27,$N$1:$O$1)/SUM($N$1:$O$1) -> 0
A28: Réduction du nombre de transports | G28: =E28*F28 -> 0 | L28: =SUMPRODUCT(I28:K28,$I$1:$K$1)/SUM($I$1:$K$1) -> 0 | P28: =SUMPRODUCT(N28:O28,$N$1:$O$1)/SUM($N$1:$O$1) -> 0
A29: Transport à faible impact | G29: =E29*F29 -> 0 | L29: =SUMPRODUCT(I29:K29,$I$1:$K$1)/SUM($I$1:$K$1) -> 0 | P29: =SUMPRODUCT(N29:O29,$N$1:$O$1)/SUM($N$1:$O$1) -> 0
A30: Optimiser la masse / volume des transports | G30: =E30*F30 -> 0 | L30: =SUMPRODUCT(I30:K30,$I$1:$K$1)/SUM($I$1:$K$1) -> 0 | P30: =SUMPRODUCT(N30:O30,$N$1:$O$1)/SUM($N$1:$O$1) -> 0
A31: 5 - Réduire l’impact des utilisations
A32: Informer pour améliorer le comportement | G32: =E32*F32 -> 0 | L32: =SUMPRODUCT(I32:K32,$I$1:$K$1)/SUM($I$1:$K$1) -> 0 | P32: =SUMPRODUCT(N32:O32,$N$1:$O$1)/SUM($N$1:$O$1) -> 0
A33: Réduction de la consommation à l'usage | G33: =E33*F33 -> 0 | L33: =SUMPRODUCT(I33:K33,$I$1:$K$1)/SUM($I$1:$K$1) -> 0 | P33: =SUMPRODUCT(N33:O33,$N$1:$O$1)/SUM($N$1:$O$1) -> 0
A34: Favoriser la multifonctionnalité à taille/complexité/volume de produit optimisée voire identique (avec questionnement du besoin) | G34: =E34*F34 -> 0 | L34: =SUMPRODUCT(I34:K34,$I$1:$K$1)/SUM($I$1:$K$1) -> 0 | P34: =SUMPRODUCT(N34:O34,$N$1:$O$1)/SUM($N$1:$O$1) -> 0
A35: 6 - Optimisation de la durée de vie
A36: Faciliter / réduire le nettoyage | G36: =E36*F36 -> 0 | L36: =SUMPRODUCT(I36:K36,$I$1:$K$1)/SUM($I$1:$K$1) -> 0 | P36: =SUMPRODUCT(N36:O36,$N$1:$O$1)/SUM($N$1:$O$1) -> 0
A37: Faciliter la maintenance | G37: =E37*F37 -> 0 | L37: =SUMPRODUCT(I37:K37,$I$1:$K$1)/SUM($I$1:$K$1) -> 0 | P37: =SUMPRODUCT(N37:O37,$N$1:$O$1)/SUM($N$1:$O$1) -> 0
A38: Faciliter la réparation | G38: =E38*F38 -> 0 | L38: =SUMPRODUCT(I38:K38,$I$1:$K$1)/SUM($I$1:$K$1) -> 0 | P38: =SUMPRODUCT(N38:O38,$N$1:$O$1)/SUM($N$1:$O$1) -> 0
A39: Limiter l’impact des consommables | G39: =E39*F39 -> 0 | L39: =SUMPRODUCT(I39:K39,$I$1:$K$1)/SUM($I$1:$K$1) -> 0 | P39: =SUMPRODUCT(N39:O39,$N$1:$O$1)/SUM($N$1:$O$1) -> 0
A40: Améliorer la modularité | G40: =E40*F40 -> 0 | L40: =SUMPRODUCT(I40:K40,$I$1:$K$1)/SUM($I$1:$K$1) -> 0 | P40: =SUMPRODUCT(N40:O40,$N$1:$O$1)/SUM($N$1:$O$1) -> 0
...

Sheet (Idées validées)
A1: Axes d'éco-conception | B1: Idées | D1: Gains environnementaux | H1: Complexité | I1: 1 | J1: 3 | K1: 1 | M1: Valeur client | N1: 1 | O1: 1 | Q1: Bilan
A2: Catégorie | B2: Nom de la solution | C2: Détails | D2: Commentaires | E2: Contribution | F2: Potentiel de gain élémentaire | G2: Gains environnementaux | H2: Commentaires | I2: Technique | J2: Economique | K2: Temporelle / disponibilité | L2: Complexité globale | M2: Commentaires | N2: Performance fonctionnelle | O2: Attente client / éco-responsabilité | P2: Valeur globale | Q2: Statut de l'idée
E3: % | F3: % | G3: % | I3: 0 à 5 | J3: 0 à 5 | K3: 0 à 5 | N3: 0 à 5 | O3: 0 à 5 | Q3: OK ; ? ; NOK
A4: {=_xlfn._xlws.FILTER('Cotation des idées'!A4:Q55,'Cotation des idées'!Q4:Q55="OK","")}

Sheet Gains environnementaux
A1: Solution | B1: Changement climatique
B2: Contribution | D2: Potentiel de gains élémentaires | F2: Potentiel global
B3: Valeur | C3: Commentaires | D3: Valeur | E3: Commentaires | F3: Valeur
A5: ### MATIERES PREMIERES | B5: 0.3
B6: 0.17 | D6: 0.45 | F6: =B6*D6 -> 0.0765
A14: ### FABRICATION
A20: ### TRANSPORT
A27: ### UTILISATION
A32: ### FIN DE VIE

Sheet Liste des leviers
A1: ADEME
A2: https://librairie.ademe.fr/dechets-economie-circulaire/6121-ecoconcevoir-un-produit-un-procede-ou-un-service.html
B3: 1 - Approvisionnements / Matériaux / Achats moins impactants
B4: Traçabilité fournisseurs
B5: Matériaux recyclés
B6: Matériaux recyclables
B7: Matériaux biosourcés
B8: Matériaux / solutions moins toxiques
B9: Choix de matériaux / produits à Haute Performance Environnementale (conso énergie, conso eau, ...)
B10: Matériaux locaux
B11: Améliorer l‘approvisionnement / matériaux de l’emballage du produit
B12: 2 - Réduction de la quantité de matière
B13: Allégement du produit ou des éléments
B14: Réduction du nombre de pièces / matériaux
... B52: Innovation de rupture (technique, commerciale, organisationnelle)
A54: Okala
A55: https://www.okala.net/
A56: 1. Innovation
B57: Repenser la manière de fournir le service rendu
B58: Concevoir avec flexibilité pour les changements technologiques
B59: Fournir le produit en tant que service (économie servicielle ou de la fonctionnalité)
B60: Assurer le service / les fonctions à l'aide de plusieurs produits
B61: Partager entre plusieurs utilisateurs
B62: Concevoir en biomimétisme
B63: Utiliser des organismes vivants dans le produit
B64: Créer des opportunités pour les chaînes d'approvisionnement locales
A65: 2. Réduction de l'impact des matériaux
B66: Éviter les matériaux nuisibles à la santé humaine ou écologique
B67: Éviter les matériaux qui épuisent les ressources naturelles
B68: Minimiser la quantité de matériaux
B69: Utiliser des matériaux recyclés ou ré-employés
B70: Utiliser des ressources renouvelables
B71: Utiliser des matériaux certifiés
B72: Utiliser des déchets ou coproduits
A73: 3. Innovation de fabrication
B74: Minimiser les déchets de fabrication
B75: Concevoir contrôler la qualité de la production
B76: Minimiser l’utilisation d’énergie dans la fabrication
B77: Utiliser des sources d’énergie décarbonées
B78: Minimiser le nombre d’étapes de production
...
